Package: BiocNeighbors Version: 2.1.2 Command: /home/rapidbuild/bbs-3.21-bioc-rapid/R/bin/R CMD INSTALL BiocNeighbors StartedAt: 2025-02-14 12:06:27 -0500 (Fri, 14 Feb 2025) EndedAt: 2025-02-14 12:07:00 -0500 (Fri, 14 Feb 2025) EllapsedTime: 33.0 seconds RetCode: 0 Status: OK