Package: BiocIO Version: 1.17.1 Command: /home/rapidbuild/bbs-3.21-bioc-rapid/R/bin/R CMD INSTALL BiocIO StartedAt: 2025-02-11 06:12:03 -0500 (Tue, 11 Feb 2025) EndedAt: 2025-02-11 06:12:06 -0500 (Tue, 11 Feb 2025) EllapsedTime: 3.4 seconds RetCode: 0 Status: OK