Package: BiocGenerics Version: 0.53.6 Command: /home/rapidbuild/bbs-3.21-bioc-rapid/R/bin/R CMD INSTALL BiocGenerics StartedAt: 2025-02-21 12:08:37 -0500 (Fri, 21 Feb 2025) EndedAt: 2025-02-21 12:08:41 -0500 (Fri, 21 Feb 2025) EllapsedTime: 4.4 seconds RetCode: 0 Status: OK