Package: BiocGenerics Version: 0.53.6 Command: /home/rapidbuild/bbs-3.21-bioc-rapid/R/bin/R CMD check --install=check:BiocGenerics.install-out.txt --library=/home/rapidbuild/bbs-3.21-bioc-rapid/R/site-library --timings BiocGenerics_0.53.6.tar.gz StartedAt: 2025-02-21 13:49:18 -0500 (Fri, 21 Feb 2025) EndedAt: 2025-02-21 13:49:56 -0500 (Fri, 21 Feb 2025) EllapsedTime: 37.9 seconds RetCode: 0 Status: WARNINGS CheckDir: BiocGenerics.Rcheck Warnings: 1