Package: BiocGenerics Version: 0.53.6 Command: /home/rapidbuild/bbs-3.21-bioc-rapid/R/bin/R CMD build --keep-empty-dirs --no-resave-data BiocGenerics StartedAt: 2025-02-21 12:32:54 -0500 (Fri, 21 Feb 2025) EndedAt: 2025-02-21 12:32:55 -0500 (Fri, 21 Feb 2025) EllapsedTime: 1.0 seconds RetCode: 0 Status: OK PackageFile: BiocGenerics_0.53.6.tar.gz PackageFileSize: 54.58 KiB