Package: BiocFileCache Version: 2.15.1 Command: /home/rapidbuild/bbs-3.21-bioc-rapid/R/bin/R CMD INSTALL BiocFileCache StartedAt: 2025-02-14 12:15:34 -0500 (Fri, 14 Feb 2025) EndedAt: 2025-02-14 12:15:39 -0500 (Fri, 14 Feb 2025) EllapsedTime: 5.2 seconds RetCode: 0 Status: OK