Package: BiocFileCache Version: 2.15.1 Command: /home/rapidbuild/bbs-3.21-bioc-rapid/R/bin/R CMD check --install=check:BiocFileCache.install-out.txt --library=/home/rapidbuild/bbs-3.21-bioc-rapid/R/site-library --timings BiocFileCache_2.15.1.tar.gz StartedAt: 2025-02-14 13:42:08 -0500 (Fri, 14 Feb 2025) EndedAt: 2025-02-14 13:44:05 -0500 (Fri, 14 Feb 2025) EllapsedTime: 116.6 seconds RetCode: 0 Status: OK CheckDir: BiocFileCache.Rcheck Warnings: 0