Package: BiocFileCache Version: 2.15.1 Command: /home/rapidbuild/bbs-3.21-bioc-rapid/R/bin/R CMD build --keep-empty-dirs --no-resave-data BiocFileCache StartedAt: 2025-02-14 12:30:36 -0500 (Fri, 14 Feb 2025) EndedAt: 2025-02-14 12:31:28 -0500 (Fri, 14 Feb 2025) EllapsedTime: 52.2 seconds RetCode: 0 Status: OK PackageFile: BiocFileCache_2.15.1.tar.gz PackageFileSize: 722.4 KiB