Package: BiocBaseUtils Version: 1.9.0 Command: /home/rapidbuild/bbs-3.21-bioc-rapid/R/bin/R CMD build --keep-empty-dirs --no-resave-data BiocBaseUtils StartedAt: 2025-02-22 06:34:46 -0500 (Sat, 22 Feb 2025) EndedAt: 2025-02-22 06:34:51 -0500 (Sat, 22 Feb 2025) EllapsedTime: 5.3 seconds RetCode: 0 Status: OK PackageFile: BiocBaseUtils_1.9.0.tar.gz PackageFileSize: 226.3 KiB