Package: BSgenomeForge Version: 1.7.0 Command: /home/rapidbuild/bbs-3.21-bioc-rapid/R/bin/R CMD check --install=check:BSgenomeForge.install-out.txt --library=/home/rapidbuild/bbs-3.21-bioc-rapid/R/site-library --timings BSgenomeForge_1.7.0.tar.gz StartedAt: 2025-02-21 13:52:56 -0500 (Fri, 21 Feb 2025) EndedAt: 2025-02-21 13:56:46 -0500 (Fri, 21 Feb 2025) EllapsedTime: 230.0 seconds RetCode: 0 Status: OK CheckDir: BSgenomeForge.Rcheck Warnings: 0