Package: BSgenome Version: 1.75.1 Command: /home/rapidbuild/bbs-3.21-bioc-rapid/R/bin/R CMD INSTALL BSgenome StartedAt: 2025-02-10 06:25:36 -0500 (Mon, 10 Feb 2025) EndedAt: 2025-02-10 06:26:17 -0500 (Mon, 10 Feb 2025) EllapsedTime: 40.6 seconds RetCode: 0 Status: OK