Package: AnnotationHubData Version: 1.37.0 Command: /home/rapidbuild/bbs-3.21-bioc-rapid/R/bin/R CMD INSTALL AnnotationHubData StartedAt: 2025-02-18 06:28:39 -0500 (Tue, 18 Feb 2025) EndedAt: 2025-02-18 06:29:18 -0500 (Tue, 18 Feb 2025) EllapsedTime: 39.3 seconds RetCode: 0 Status: OK