Package: AnnotationHubData Version: 1.37.0 Command: /home/rapidbuild/bbs-3.21-bioc-rapid/R/bin/R CMD check --install=check:AnnotationHubData.install-out.txt --library=/home/rapidbuild/bbs-3.21-bioc-rapid/R/site-library --timings AnnotationHubData_1.37.0.tar.gz StartedAt: 2025-02-18 07:59:49 -0500 (Tue, 18 Feb 2025) EndedAt: 2025-02-18 08:08:37 -0500 (Tue, 18 Feb 2025) EllapsedTime: 527.5 seconds RetCode: 0 Status: WARNINGS CheckDir: AnnotationHubData.Rcheck Warnings: 1