Package: AnnotationHubData Version: 1.37.0 Command: /home/rapidbuild/bbs-3.21-bioc-rapid/R/bin/R CMD build --keep-empty-dirs --no-resave-data AnnotationHubData StartedAt: 2025-02-18 06:34:13 -0500 (Tue, 18 Feb 2025) EndedAt: 2025-02-18 06:34:51 -0500 (Tue, 18 Feb 2025) EllapsedTime: 38.3 seconds RetCode: 0 Status: OK PackageFile: AnnotationHubData_1.37.0.tar.gz PackageFileSize: 400.4 KiB