Welcome to mirrors.dotsrc.org

All our mirrors of open source software are available via http, https, ftp and an onion service. More information about our mirrors including statistics and contact information is available on our mirror info pages.

For information about dotsrc.org and our other services please go to our website.

Index of /bioconductor/checkResults/3.21/bioc-testing-LATEST/

File Name  ↓ File Size  ↓ Date  ↓ 
Parent directory/--
AnnotationDbi/-2025-02-09 15:19:37
AnnotationFilter/-2025-02-09 15:19:37
AnnotationForge/-2025-02-09 15:19:37
AnnotationHub/-2025-02-09 15:19:37
AnnotationHubData/-2025-02-09 15:19:37
BSgenome/-2025-02-09 15:19:37
BSgenomeForge/-2025-02-09 15:19:37
Biobase/-2025-02-09 15:19:37
BiocBaseUtils/-2025-02-09 15:19:37
BiocCheck/-2025-02-09 15:19:37
BiocFileCache/-2025-02-09 15:19:37
BiocGenerics/-2025-02-09 15:19:37
BiocIO/-2025-02-09 15:19:37
BiocNeighbors/-2025-02-09 15:19:37
BiocParallel/-2025-02-09 15:19:37
BiocSingular/-2025-02-09 15:19:37
BiocStyle/-2025-02-09 15:19:37
BiocVersion/-2025-02-09 15:19:37
Biostrings/-2025-02-09 15:19:37
BumpyMatrix/-2025-02-09 15:19:37
Category/-2025-02-09 15:19:37
ChemmineOB/-2025-02-09 15:19:37
ChemmineR/-2025-02-09 15:19:37
ComplexHeatmap/-2025-02-09 15:19:38
CompoundDb/-2025-02-09 15:19:38
ConsensusClusterPlus/-2025-02-09 15:19:38
CytoML/-2025-02-09 15:19:38
DECIPHER/-2025-02-09 15:19:38
DESeq2/-2025-02-09 15:19:38
DEXSeq/-2025-02-09 15:19:38
DNAcopy/-2025-02-09 15:19:38
DOSE/-2025-02-09 15:19:38
DelayedArray/-2025-02-09 15:19:38
DelayedMatrixStats/-2025-02-09 15:19:38
DirichletMultinomial/-2025-02-09 15:19:38
DropletUtils/-2025-02-09 15:19:38
DynDoc/-2025-02-09 15:19:38
EBImage/-2025-02-09 15:19:38
EBarrays/-2025-02-09 15:19:38
EDASeq/-2025-02-09 15:19:38
EnhancedVolcano/-2025-02-09 15:19:38
EnrichedHeatmap/-2025-02-09 15:19:38
ExperimentHub/-2025-02-09 15:19:38
ExperimentHubData/-2025-02-09 15:19:38
GEOquery/-2025-02-09 15:19:38
GOSemSim/-2025-02-09 15:19:38
GOstats/-2025-02-09 15:19:38
GSEABase/-2025-02-09 15:19:38
GSVA/-2025-02-09 15:19:38
GenomeInfoDb/-2025-02-09 15:19:38
GenomicAlignments/-2025-02-09 15:19:38
GenomicFeatures/-2025-02-09 15:19:38
GenomicRanges/-2025-02-09 15:19:38
Gviz/-2025-02-09 15:19:38
HDF5Array/-2025-02-09 15:19:38
HubPub/-2025-02-09 15:19:38
IHW/-2025-02-09 15:19:38
IRanges/-2025-02-09 15:19:38
KEGGREST/-2025-02-09 15:19:38
KEGGgraph/-2025-02-09 15:19:38
LoomExperiment/-2025-02-09 15:19:38
MLInterfaces/-2025-02-09 15:19:38
MSnbase/-2025-02-09 15:19:38
MassSpecWavelet/-2025-02-09 15:19:38
MatrixGenerics/-2025-02-09 15:19:38
MetaboCoreUtils/-2025-02-09 15:19:38
MsBackendMgf/-2025-02-09 15:19:38
MsBackendSql/-2025-02-09 15:19:38
MsCoreUtils/-2025-02-09 15:19:38
MsDataHub/-2025-02-09 15:19:38
MsExperiment/-2025-02-09 15:19:38
MsFeatures/-2025-02-09 15:19:38
MultiAssayExperiment/-2025-02-09 15:19:38
OrganismDbi/-2025-02-09 15:19:38
PSMatch/-2025-02-09 15:19:38
ProtGenerics/-2025-02-09 15:19:38
QFeatures/-2025-02-09 15:19:38
RBGL/-2025-02-09 15:19:38
ROC/-2025-02-09 15:19:39
RProtoBufLib/-2025-02-09 15:19:39
RaggedExperiment/-2025-02-09 15:19:38
Rdisop/-2025-02-09 15:19:39
ReportingTools/-2025-02-09 15:19:39
ResidualMatrix/-2025-02-09 15:19:39
Rgraphviz/-2025-02-09 15:19:39
Rhdf5lib/-2025-02-09 15:19:39
Rhtslib/-2025-02-09 15:19:39
Rsamtools/-2025-02-09 15:19:39
Rsubread/-2025-02-09 15:19:39
S4Arrays/-2025-02-09 15:19:39
S4Vectors/-2025-02-09 15:19:39
SPIA/-2025-02-09 15:19:39
ScaledMatrix/-2025-02-09 15:19:39
ShortRead/-2025-02-09 15:19:39
SingleCellExperiment/-2025-02-09 15:19:39
SingleR/-2025-02-09 15:19:39
SparseArray/-2025-02-09 15:19:39
SpatialExperiment/-2025-02-09 15:19:39
Spectra/-2025-02-09 15:19:39
SummarizedExperiment/-2025-02-09 15:19:39
TCGAbiolinks/-2025-02-09 15:19:39
UCSC.utils/-2025-02-09 15:19:39
VariantAnnotation/-2025-02-09 15:19:39
Wrench/-2025-02-09 15:19:39
XVector/-2025-02-09 15:19:39
affxparser/-2025-02-09 15:19:37
affy/-2025-02-09 15:19:37
affyPLM/-2025-02-09 15:19:37
affyio/-2025-02-09 15:19:37
alabaster.base/-2025-02-09 15:19:37
alabaster.matrix/-2025-02-09 15:19:37
alabaster.ranges/-2025-02-09 15:19:37
alabaster.sce/-2025-02-09 15:19:37
alabaster.schemas/-2025-02-09 15:19:37
alabaster.se/-2025-02-09 15:19:37
annotate/-2025-02-09 15:19:37
apeglm/-2025-02-09 15:19:37
aroma.light/-2025-02-09 15:19:37
assorthead/-2025-02-09 15:19:37
bamsignals/-2025-02-09 15:19:37
basilisk/-2025-02-09 15:19:37
basilisk.utils/-2025-02-09 15:19:37
batchelor/-2025-02-09 15:19:37
beachmat/-2025-02-09 15:19:37
beachmat.hdf5/-2025-02-09 15:19:37
biocViews/-2025-02-09 15:19:37
biocthis/-2025-02-09 15:19:37
biomaRt/-2025-02-09 15:19:37
biomformat/-2025-02-09 15:19:37
biovizBase/-2025-02-09 15:19:37
bluster/-2025-02-09 15:19:37
chihaya/-2025-02-09 15:19:37
clusterProfiler/-2025-02-09 15:19:38
csaw/-2025-02-09 15:19:38
cytolib/-2025-02-09 15:19:38
densvis/-2025-02-09 15:19:38
dir.expiry/-2025-02-09 15:19:38
edgeR/-2025-02-09 15:19:38
eds/-2025-02-09 15:19:38
enrichplot/-2025-02-09 15:19:38
ensembldb/-2025-02-09 15:19:38
fgsea/-2025-02-09 15:19:38
fishpond/-2025-02-09 15:19:38
flowClust/-2025-02-09 15:19:38
flowCore/-2025-02-09 15:19:38
flowStats/-2025-02-09 15:19:38
flowViz/-2025-02-09 15:19:38
flowWorkspace/-2025-02-09 15:19:38
fmcsR/-2025-02-09 15:19:38
gage/-2025-02-09 15:19:38
gcrma/-2025-02-09 15:19:38
gdsfmt/-2025-02-09 15:19:38
genefilter/-2025-02-09 15:19:38
geneplotter/-2025-02-09 15:19:38
ggbio/-2025-02-09 15:19:38
ggcyto/-2025-02-09 15:19:38
ggtree/-2025-02-09 15:19:38
ggtreeExtra/-2025-02-09 15:19:38
glmGamPoi/-2025-02-09 15:19:38
gpls/-2025-02-09 15:19:38
graph/-2025-02-09 15:19:38
gypsum/-2025-02-09 15:19:38
h5mread/-2025-02-09 15:19:38
hpar/-2025-02-09 15:19:38
illuminaio/-2025-02-09 15:19:38
impute/-2025-02-09 15:19:38
interactiveDisplay/-2025-02-09 15:19:38
interactiveDisplayBase/-2025-02-09 15:19:38
karyoploteR/-2025-02-09 15:19:38
keggorthology/-2025-02-09 15:19:38
limma/-2025-02-09 15:19:38
lpsymphony/-2025-02-09 15:19:38
maftools/-2025-02-09 15:19:38
mbkmeans/-2025-02-09 15:19:38
metagenomeSeq/-2025-02-09 15:19:38
metapod/-2025-02-09 15:19:38
microRNA/-2025-02-09 15:19:38
minet/-2025-02-09 15:19:38
multtest/-2025-02-09 15:19:38
mzID/-2025-02-09 15:19:38
mzR/-2025-02-09 15:19:38
ncdfFlow/-2025-02-09 15:19:38
openCyto/-2025-02-09 15:19:38
pRoloc/-2025-02-09 15:19:38
pathview/-2025-02-09 15:19:38
pcaMethods/-2025-02-09 15:19:38
phyloseq/-2025-02-09 15:19:38
preprocessCore/-2025-02-09 15:19:38
pwalign/-2025-02-09 15:19:38
qvalue/-2025-02-09 15:19:38
rBiopaxParser/-2025-02-09 15:19:39
regioneR/-2025-02-09 15:19:39
rhdf5/-2025-02-09 15:19:39
rhdf5filters/-2025-02-09 15:19:39
rpx/-2025-02-09 15:19:39
rtracklayer/-2025-02-09 15:19:39
scater/-2025-02-09 15:19:39
scran/-2025-02-09 15:19:39
scrapper/-2025-02-09 15:19:39
scuttle/-2025-02-09 15:19:39
seqLogo/-2025-02-09 15:19:39
sesame/-2025-02-09 15:19:39
snifter/-2025-02-09 15:19:39
snpStats/-2025-02-09 15:19:39
sparseMatrixStats/-2025-02-09 15:19:39
supraHex/-2025-02-09 15:19:39
sva/-2025-02-09 15:19:39
tkWidgets/-2025-02-09 15:19:39
treeio/-2025-02-09 15:19:39
txdbmaker/-2025-02-09 15:19:39
tximeta/-2025-02-09 15:19:39
tximport/-2025-02-09 15:19:39
vsn/-2025-02-09 15:19:39
widgetTools/-2025-02-09 15:19:39
xcms/-2025-02-09 15:19:39
zellkonverter/-2025-02-09 15:19:39
zlibbioc/-2025-02-09 15:19:39
120px-Blue_Light_Icon.svg.png7.1 KiB2025-02-09 15:19:37
120px-Green_Light_Icon.svg.png7.1 KiB2025-02-09 15:19:37
120px-Red_Light_Icon.svg.png7.0 KiB2025-02-09 15:19:37
BUILD_STATUS_DB.txt19.6 KiB2025-02-09 15:19:37
DEVEL3b.png2.6 KiB2025-02-09 15:19:37
Renviron.bioc3.3 KiB2025-02-09 15:19:37
index.html231.9 KiB2025-02-09 15:19:39
meat-index.dcf23.6 KiB2025-02-09 15:19:37
report.css11.0 KiB2025-02-09 15:19:37
report.js6.0 KiB2025-02-09 15:19:37
report.tgz4.1 MiB2025-02-09 15:19:41
skipped-index.dcf0 B2025-02-09 15:19:37
teran2-NodeInfo.html7.0 KiB2025-02-09 15:19:37
teran2-R-instpkgs.html113.9 KiB2025-02-09 15:19:37