Package: rpx Version: 2.15.1 Command: /home/rapidbuild/bbs-3.21-bioc-rapid/R/bin/R CMD check --install=check:rpx.install-out.txt --library=/home/rapidbuild/bbs-3.21-bioc-rapid/R/site-library --timings rpx_2.15.1.tar.gz StartedAt: 2025-02-21 14:56:59 -0500 (Fri, 21 Feb 2025) EndedAt: 2025-02-21 14:57:47 -0500 (Fri, 21 Feb 2025) EllapsedTime: 48.3 seconds RetCode: 0 Status: OK CheckDir: rpx.Rcheck Warnings: 0