Package: phyloseq Version: 1.51.0 Command: /home/rapidbuild/bbs-3.21-bioc-rapid/R/bin/R CMD INSTALL phyloseq StartedAt: 2025-02-23 06:25:46 -0500 (Sun, 23 Feb 2025) EndedAt: 2025-02-23 06:26:06 -0500 (Sun, 23 Feb 2025) EllapsedTime: 20.0 seconds RetCode: 0 Status: OK