Package: limma Version: 3.63.3 Command: /home/rapidbuild/bbs-3.21-bioc-rapid/R/bin/R CMD INSTALL limma StartedAt: 2025-02-06 06:09:44 -0500 (Thu, 06 Feb 2025) EndedAt: 2025-02-06 06:09:56 -0500 (Thu, 06 Feb 2025) EllapsedTime: 12.0 seconds RetCode: 0 Status: OK