Package: gcrma Version: 2.79.0 Command: /home/rapidbuild/bbs-3.21-bioc-rapid/R/bin/R CMD INSTALL gcrma StartedAt: 2025-02-19 06:26:56 -0500 (Wed, 19 Feb 2025) EndedAt: 2025-02-19 06:27:12 -0500 (Wed, 19 Feb 2025) EllapsedTime: 15.4 seconds RetCode: 0 Status: OK