Package: gcrma Version: 2.79.0 Command: /home/rapidbuild/bbs-3.21-bioc-rapid/R/bin/R CMD check --install=check:gcrma.install-out.txt --library=/home/rapidbuild/bbs-3.21-bioc-rapid/R/site-library --timings gcrma_2.79.0.tar.gz StartedAt: 2025-02-19 08:42:27 -0500 (Wed, 19 Feb 2025) EndedAt: 2025-02-19 08:44:04 -0500 (Wed, 19 Feb 2025) EllapsedTime: 96.7 seconds RetCode: 0 Status: OK CheckDir: gcrma.Rcheck Warnings: 0