Package: densvis Version: 1.17.0 Command: /home/rapidbuild/bbs-3.21-bioc-rapid/R/bin/R CMD build --keep-empty-dirs --no-resave-data densvis StartedAt: 2025-02-06 06:44:41 -0500 (Thu, 06 Feb 2025) EndedAt: 2025-02-06 06:46:03 -0500 (Thu, 06 Feb 2025) EllapsedTime: 82.4 seconds RetCode: 0 Status: OK PackageFile: densvis_1.17.0.tar.gz PackageFileSize: 1.678 MiB