Package: alabaster.sce Version: 1.7.0 Command: /home/rapidbuild/bbs-3.21-bioc-rapid/R/bin/R CMD INSTALL alabaster.sce StartedAt: 2025-02-19 06:20:25 -0500 (Wed, 19 Feb 2025) EndedAt: 2025-02-19 06:20:49 -0500 (Wed, 19 Feb 2025) EllapsedTime: 24.7 seconds RetCode: 0 Status: OK