Package: alabaster.sce Version: 1.7.0 Command: /home/rapidbuild/bbs-3.21-bioc-rapid/R/bin/R CMD build --keep-empty-dirs --no-resave-data alabaster.sce StartedAt: 2025-02-19 06:33:24 -0500 (Wed, 19 Feb 2025) EndedAt: 2025-02-19 06:34:00 -0500 (Wed, 19 Feb 2025) EllapsedTime: 35.9 seconds RetCode: 0 Status: OK PackageFile: alabaster.sce_1.7.0.tar.gz PackageFileSize: 220.5 KiB