Package: alabaster.matrix Version: 1.7.7 Command: /home/rapidbuild/bbs-3.21-bioc-rapid/R/bin/R CMD build --keep-empty-dirs --no-resave-data alabaster.matrix StartedAt: 2025-02-19 06:32:31 -0500 (Wed, 19 Feb 2025) EndedAt: 2025-02-19 06:33:08 -0500 (Wed, 19 Feb 2025) EllapsedTime: 37.0 seconds RetCode: 0 Status: OK PackageFile: alabaster.matrix_1.7.7.tar.gz PackageFileSize: 273.7 KiB