Package: affyio Version: 1.77.3 Command: /home/rapidbuild/bbs-3.21-bioc-rapid/R/bin/R CMD INSTALL affyio StartedAt: 2025-02-24 12:05:38 -0500 (Mon, 24 Feb 2025) EndedAt: 2025-02-24 12:05:45 -0500 (Mon, 24 Feb 2025) EllapsedTime: 7.0 seconds RetCode: 0 Status: OK