Package: affyio Version: 1.77.3 Command: /home/rapidbuild/bbs-3.21-bioc-rapid/R/bin/R CMD check --install=check:affyio.install-out.txt --library=/home/rapidbuild/bbs-3.21-bioc-rapid/R/site-library --timings affyio_1.77.3.tar.gz StartedAt: 2025-02-24 13:38:30 -0500 (Mon, 24 Feb 2025) EndedAt: 2025-02-24 13:38:43 -0500 (Mon, 24 Feb 2025) EllapsedTime: 13.0 seconds RetCode: 0 Status: WARNINGS CheckDir: affyio.Rcheck Warnings: 2