Package: affyio Version: 1.77.3 Command: /home/rapidbuild/bbs-3.21-bioc-rapid/R/bin/R CMD build --keep-empty-dirs --no-resave-data affyio StartedAt: 2025-02-24 12:27:31 -0500 (Mon, 24 Feb 2025) EndedAt: 2025-02-24 12:27:32 -0500 (Mon, 24 Feb 2025) EllapsedTime: 1.0 seconds RetCode: 0 Status: OK PackageFile: affyio_1.77.3.tar.gz PackageFileSize: 107.8 KiB