Package: affy Version: 1.85.1 Command: /home/rapidbuild/bbs-3.21-bioc-rapid/R/bin/R CMD build --keep-empty-dirs --no-resave-data affy StartedAt: 2025-02-17 12:27:33 -0500 (Mon, 17 Feb 2025) EndedAt: 2025-02-17 12:28:18 -0500 (Mon, 17 Feb 2025) EllapsedTime: 44.9 seconds RetCode: 0 Status: OK PackageFile: affy_1.85.1.tar.gz PackageFileSize: 1.685 MiB