Package: SummarizedExperiment Version: 1.37.0 Command: /home/rapidbuild/bbs-3.21-bioc-rapid/R/bin/R CMD build --keep-empty-dirs --no-resave-data SummarizedExperiment StartedAt: 2025-02-20 13:31:59 -0500 (Thu, 20 Feb 2025) EndedAt: 2025-02-20 13:32:41 -0500 (Thu, 20 Feb 2025) EllapsedTime: 41.9 seconds RetCode: 0 Status: OK PackageFile: SummarizedExperiment_1.37.0.tar.gz PackageFileSize: 672.8 KiB