Package: SingleR Version: 2.9.6 Command: /home/rapidbuild/bbs-3.21-bioc-rapid/R/bin/R CMD check --install=check:SingleR.install-out.txt --library=/home/rapidbuild/bbs-3.21-bioc-rapid/R/site-library --timings SingleR_2.9.6.tar.gz StartedAt: 2025-02-20 15:13:52 -0500 (Thu, 20 Feb 2025) EndedAt: 2025-02-20 15:17:57 -0500 (Thu, 20 Feb 2025) EllapsedTime: 245.0 seconds RetCode: 0 Status: OK CheckDir: SingleR.Rcheck Warnings: 0