Package: SingleR Version: 2.9.6 Command: /home/rapidbuild/bbs-3.21-bioc-rapid/R/bin/R CMD build --keep-empty-dirs --no-resave-data SingleR StartedAt: 2025-02-20 13:29:53 -0500 (Thu, 20 Feb 2025) EndedAt: 2025-02-20 13:31:24 -0500 (Thu, 20 Feb 2025) EllapsedTime: 90.8 seconds RetCode: 0 Status: OK PackageFile: SingleR_2.9.6.tar.gz PackageFileSize: 676.1 KiB