Package: S4Arrays Version: 1.7.3 Command: /home/rapidbuild/bbs-3.21-bioc-rapid/R/bin/R CMD check --install=check:S4Arrays.install-out.txt --library=/home/rapidbuild/bbs-3.21-bioc-rapid/R/site-library --timings S4Arrays_1.7.3.tar.gz StartedAt: 2025-02-22 09:26:46 -0500 (Sat, 22 Feb 2025) EndedAt: 2025-02-22 09:29:07 -0500 (Sat, 22 Feb 2025) EllapsedTime: 140.8 seconds RetCode: 0 Status: OK CheckDir: S4Arrays.Rcheck Warnings: 0