Package: ReportingTools Version: 2.47.0 Command: /home/rapidbuild/bbs-3.21-bioc-rapid/R/bin/R CMD INSTALL ReportingTools StartedAt: 2025-02-17 12:26:27 -0500 (Mon, 17 Feb 2025) EndedAt: 2025-02-17 12:27:28 -0500 (Mon, 17 Feb 2025) EllapsedTime: 60.7 seconds RetCode: 0 Status: OK