Package: ROC Version: 1.83.0 Command: /home/rapidbuild/bbs-3.21-bioc-rapid/R/bin/R CMD INSTALL ROC StartedAt: 2025-02-23 06:12:46 -0500 (Sun, 23 Feb 2025) EndedAt: 2025-02-23 06:12:48 -0500 (Sun, 23 Feb 2025) EllapsedTime: 2.2 seconds RetCode: 0 Status: OK