Package: ROC Version: 1.83.0 Command: /home/rapidbuild/bbs-3.21-bioc-rapid/R/bin/R CMD check --install=check:ROC.install-out.txt --library=/home/rapidbuild/bbs-3.21-bioc-rapid/R/site-library --timings ROC_1.83.0.tar.gz StartedAt: 2025-02-23 08:59:00 -0500 (Sun, 23 Feb 2025) EndedAt: 2025-02-23 08:59:14 -0500 (Sun, 23 Feb 2025) EllapsedTime: 14.3 seconds RetCode: 0 Status: OK CheckDir: ROC.Rcheck Warnings: 0