Package: MsFeatures Version: 1.15.0 Command: /home/rapidbuild/bbs-3.21-bioc-rapid/R/bin/R CMD check --install=check:MsFeatures.install-out.txt --library=/home/rapidbuild/bbs-3.21-bioc-rapid/R/site-library --timings MsFeatures_1.15.0.tar.gz StartedAt: 2025-02-17 14:48:49 -0500 (Mon, 17 Feb 2025) EndedAt: 2025-02-17 14:50:59 -0500 (Mon, 17 Feb 2025) EllapsedTime: 129.9 seconds RetCode: 0 Status: OK CheckDir: MsFeatures.Rcheck Warnings: 0