Package: MsBackendSql Version: 1.7.3 Command: /home/rapidbuild/bbs-3.21-bioc-rapid/R/bin/R CMD INSTALL MsBackendSql StartedAt: 2025-02-06 06:17:26 -0500 (Thu, 06 Feb 2025) EndedAt: 2025-02-06 06:17:40 -0500 (Thu, 06 Feb 2025) EllapsedTime: 14.0 seconds RetCode: 0 Status: OK