Package: LoomExperiment Version: 1.25.0 Command: /home/rapidbuild/bbs-3.21-bioc-rapid/R/bin/R CMD INSTALL LoomExperiment StartedAt: 2025-02-18 06:20:17 -0500 (Tue, 18 Feb 2025) EndedAt: 2025-02-18 06:20:48 -0500 (Tue, 18 Feb 2025) EllapsedTime: 31.0 seconds RetCode: 0 Status: OK