Package: LoomExperiment Version: 1.25.0 Command: /home/rapidbuild/bbs-3.21-bioc-rapid/R/bin/R CMD check --install=check:LoomExperiment.install-out.txt --library=/home/rapidbuild/bbs-3.21-bioc-rapid/R/site-library --timings LoomExperiment_1.25.0.tar.gz StartedAt: 2025-02-18 09:15:58 -0500 (Tue, 18 Feb 2025) EndedAt: 2025-02-18 09:19:52 -0500 (Tue, 18 Feb 2025) EllapsedTime: 234.1 seconds RetCode: 0 Status: OK CheckDir: LoomExperiment.Rcheck Warnings: 0