Package: LoomExperiment Version: 1.25.0 Command: /home/rapidbuild/bbs-3.21-bioc-rapid/R/bin/R CMD build --keep-empty-dirs --no-resave-data LoomExperiment StartedAt: 2025-02-18 07:14:40 -0500 (Tue, 18 Feb 2025) EndedAt: 2025-02-18 07:15:20 -0500 (Tue, 18 Feb 2025) EllapsedTime: 40.6 seconds RetCode: 0 Status: OK PackageFile: LoomExperiment_1.25.0.tar.gz PackageFileSize: 253 KiB