Package: GSEABase Version: 1.69.1 Command: /home/rapidbuild/bbs-3.21-bioc-rapid/R/bin/R CMD build --keep-empty-dirs --no-resave-data GSEABase StartedAt: 2025-02-17 12:55:29 -0500 (Mon, 17 Feb 2025) EndedAt: 2025-02-17 12:56:23 -0500 (Mon, 17 Feb 2025) EllapsedTime: 54.0 seconds RetCode: 0 Status: OK PackageFile: GSEABase_1.69.1.tar.gz PackageFileSize: 292.5 KiB