Package: DelayedArray Version: 0.33.6 Command: /home/rapidbuild/bbs-3.21-bioc-rapid/R/bin/R CMD INSTALL DelayedArray StartedAt: 2025-02-18 06:14:05 -0500 (Tue, 18 Feb 2025) EndedAt: 2025-02-18 06:14:32 -0500 (Tue, 18 Feb 2025) EllapsedTime: 26.6 seconds RetCode: 0 Status: OK