Package: DOSE Version: 4.1.0 Command: /home/rapidbuild/bbs-3.21-bioc-rapid/R/bin/R CMD INSTALL DOSE StartedAt: 2025-02-18 06:28:22 -0500 (Tue, 18 Feb 2025) EndedAt: 2025-02-18 06:28:43 -0500 (Tue, 18 Feb 2025) EllapsedTime: 21.6 seconds RetCode: 0 Status: OK