Package: DOSE Version: 4.1.0 Command: /home/rapidbuild/bbs-3.21-bioc-rapid/R/bin/R CMD build --keep-empty-dirs --no-resave-data DOSE StartedAt: 2025-02-18 06:49:21 -0500 (Tue, 18 Feb 2025) EndedAt: 2025-02-18 06:49:52 -0500 (Tue, 18 Feb 2025) EllapsedTime: 31.3 seconds RetCode: 0 Status: OK PackageFile: DOSE_4.1.0.tar.gz PackageFileSize: 5.479 MiB