Package: ChemmineR Version: 3.59.0 Command: /home/rapidbuild/bbs-3.21-bioc-rapid/R/bin/R CMD build --keep-empty-dirs --no-resave-data ChemmineR StartedAt: 2025-02-11 06:39:21 -0500 (Tue, 11 Feb 2025) EndedAt: 2025-02-11 06:40:27 -0500 (Tue, 11 Feb 2025) EllapsedTime: 65.6 seconds RetCode: 0 Status: OK PackageFile: ChemmineR_3.59.0.tar.gz PackageFileSize: 2.099 MiB