Package: BumpyMatrix Version: 1.15.0 Command: /home/rapidbuild/bbs-3.21-bioc-rapid/R/bin/R CMD INSTALL BumpyMatrix StartedAt: 2025-02-17 12:11:48 -0500 (Mon, 17 Feb 2025) EndedAt: 2025-02-17 12:12:00 -0500 (Mon, 17 Feb 2025) EllapsedTime: 11.6 seconds RetCode: 0 Status: OK