Package: zellkonverter Version: 1.17.0 Command: /Library/Frameworks/R.framework/Resources/bin/R CMD check --test-dir=longtests --no-stop-on-test-error --no-codoc --no-examples --no-manual --ignore-vignettes --check-subdirs=no zellkonverter_1.17.0.tar.gz StartedAt: 2025-02-15 16:16:08 -0500 (Sat, 15 Feb 2025) EndedAt: 2025-02-15 16:43:49 -0500 (Sat, 15 Feb 2025) EllapsedTime: 1661.1 seconds RetCode: 0 Status: OK CheckDir: zellkonverter.Rcheck Warnings: 0