Package: xcms Version: 4.5.3 Command: /home/biocbuild/bbs-3.21-bioc/R/bin/R CMD check --test-dir=longtests --no-stop-on-test-error --no-codoc --no-examples --no-manual --ignore-vignettes --check-subdirs=no xcms_4.5.3.tar.gz StartedAt: 2025-02-15 16:27:42 -0500 (Sat, 15 Feb 2025) EndedAt: 2025-02-15 16:34:07 -0500 (Sat, 15 Feb 2025) EllapsedTime: 385.1 seconds RetCode: 1 Status: ERROR CheckDir: xcms.Rcheck Warnings: NA