Package: midasHLA Version: 1.15.0 Command: E:\biocbuild\bbs-3.21-bioc\R\bin\R.exe CMD check --no-multiarch --test-dir=longtests --no-stop-on-test-error --no-codoc --no-examples --no-manual --ignore-vignettes --check-subdirs=no midasHLA_1.15.0.tar.gz StartedAt: 2025-02-15 16:39:18 -0500 (Sat, 15 Feb 2025) EndedAt: 2025-02-15 16:42:13 -0500 (Sat, 15 Feb 2025) EllapsedTime: 175.1 seconds RetCode: 1 Status: ERROR CheckDir: midasHLA.Rcheck Warnings: NA