Package: midasHLA Version: 1.15.0 Command: /Library/Frameworks/R.framework/Resources/bin/R CMD check --test-dir=longtests --no-stop-on-test-error --no-codoc --no-examples --no-manual --ignore-vignettes --check-subdirs=no midasHLA_1.15.0.tar.gz StartedAt: 2025-02-15 16:11:27 -0500 (Sat, 15 Feb 2025) EndedAt: 2025-02-15 16:13:56 -0500 (Sat, 15 Feb 2025) EllapsedTime: 148.4 seconds RetCode: 1 Status: ERROR CheckDir: midasHLA.Rcheck Warnings: NA